BEGIN:VCALENDAR
VERSION:2.0
BEGIN:VEVENT
SUMMARY:Building Bridges 2023 Summit
DTSTART:20231002T120000Z
DTEND:20231002T163000Z
LOCATION:Building Bridges 2023 Summit - 
DESCRIPTION:The Summit is the marquee event that kicks off the 2023 edition of Building Bridges.
Learn more about the 2023 Summit here. 
END:VEVENT
END:VCALENDAR